BEGIN:VCALENDAR
VERSION:2.0
METHOD:PUBLISH
PRODID:-//Accessible Web Design//My Calendar//http://www.joedolson.com//v//EN';
BEGIN:VEVENT
UID:13-2
LOCATION:
SUMMARY:Ausstellungseröffnung
DTSTAMP:20160707
ORGANIZER;CN=Friederike Hülsmann:MAILTO:friederike.huelsmann@haw-hamburg.de
DTSTART:20160707
DTEND:20160708
CATEGORIES:1
URL;VALUE=URI:https://intransformation.hamburg/index.php/mc-events/ausstellungseroeffnung/?mc_id=13
DESCRIPTION:
X-FUNAMBOL-ALLDAY: 1
X-MICROSOFT-CDO-ALLDAYEVENT: TRUE

END:VEVENT
END:VCALENDAR